BEGIN:VCALENDAR
VERSION:2.0
PRODID:-//Focus Health &amp; Fitness - ECPv6.15.13//NONSGML v1.0//EN
CALSCALE:GREGORIAN
METHOD:PUBLISH
X-WR-CALNAME:Focus Health &amp; Fitness
X-ORIGINAL-URL:https://www.focushealthfitness.nl
X-WR-CALDESC:Evenementen voor Focus Health &amp; Fitness
REFRESH-INTERVAL;VALUE=DURATION:PT1H
X-Robots-Tag:noindex
X-PUBLISHED-TTL:PT1H
BEGIN:VTIMEZONE
TZID:UTC
BEGIN:STANDARD
TZOFFSETFROM:+0000
TZOFFSETTO:+0000
TZNAME:UTC
DTSTART:20240101T000000
END:STANDARD
END:VTIMEZONE
BEGIN:VEVENT
DTSTART;VALUE=DATE:20250524
DTEND;VALUE=DATE:20250525
DTSTAMP:20260419T123735
CREATED:20250227T095517Z
LAST-MODIFIED:20250303T131235Z
UID:21962-1748044800-1748131199@www.focushealthfitness.nl
SUMMARY:HYROX RACE
DESCRIPTION:SAVE THE DATE: FOCUS HYROX RACE! | Ben jij klaar om jezelf uit te dagen en de ultieme kracht- en uithoudingsproef aan te gaan? 🏋️‍♂️🏃‍♀️\nOp zaterdag 24 mei organiseren we onze eigen HYROX race bij FOCUS Oude-Tonge! 💪 \nDit wordt hét event waar jij jouw kracht\, snelheid en doorzettingsvermogen op de proef stelt. Of je nu een doorgewinterde HYROX-atleet bent of voor de eerste keer de uitdaging aangaat – dit wil je niet missen! 🔥 \n📅 Wanneer? Zaterdag 24 mei\n📍 Waar? FOCUS Health & Fitness\, Oude-Tonge\n🏋️‍♀️ Voor wie? Exclusief voor FOCUS members \nMeer info volgt snel\, maar blok deze datum in je agenda en geef jezelf alvast op:\n📧Stuur een DM of een mail naar ouddorp@focushealthfitness.nl \nBreng je sportmaatje op de hoogte en begin samen met de voorbereiding. Wie gaat deze challenge met ons aan? 👊
URL:https://www.focushealthfitness.nl/event/hyrox-race/
LOCATION:FOCUS OT\, Stationsweg 18\, Oude-Tonge\, 3255 BL\, Nederland
END:VEVENT
END:VCALENDAR